BEGIN:VCALENDAR
VERSION:2.0
PRODID:-//https://www.berwick.ca//NONSGML kigkonsult.se iCalcreator 2.29.29
 //
CALSCALE:GREGORIAN
METHOD:PUBLISH
UID:bdc59bdf-2138-46fb-81f0-f60c4cfb6ea3
X-WR-CALNAME:JCal Pro Calendar
X-WR-CALDESC:Your online events calendar
X-WR-TIMEZONE:America/Halifax
BEGIN:VTIMEZONE
TZID:America/Halifax
BEGIN:STANDARD
TZNAME:AST
DTSTART:20251102T020000
TZOFFSETFROM:-0300
TZOFFSETTO:-0400
RDATE:20261101T020000
END:STANDARD
BEGIN:DAYLIGHT
TZNAME:ADT
DTSTART:20260308T020000
TZOFFSETFROM:-0400
TZOFFSETTO:-0300
RDATE:20270314T020000
END:DAYLIGHT
END:VTIMEZONE
BEGIN:VEVENT
UID:20240720T100000ADT-5905mJVvDl@https://berwick.ca/
DTSTAMP:20260424T113342Z
CATEGORIES:Town Events
CATEGORIES:Recreation
DESCRIPTION:<p>Berwick's Town Wide Yardsale is THIS Saturday\, July 20th! <
 br />We have a record breaking 60+ entries on our 'official map' which is 
 now available for pick-up at the Berwick Town Hall\, and will be available
  this afternoon at the Berwick Visitor Information Centre. New this year\,
  the map can also be found online at <a href='https://bit.ly/BerwickYardsa
 le24'>https://bit.ly/BerwickYardsale24</a> with entries being added to the
  digital version until 2 PM on Friday!<br />The yardsale takes place ALL d
 ay on Saturday\, and there is no rain date. For those setting up at Rainfo
 rth Park\, please be sure to bring your own table and set-up in the grasse
 d area around the basketball court.</p>
DTSTART;TZID=America/Halifax:20240720T000000
DTEND;TZID=America/Halifax:20240720T235959
SUMMARY:Town Wide Yardsale
URL:https://www.berwick.ca/18-town-events/1027-town-wide-yardsale.html
X-ALT-DESC;FMTTYPE=TEXT/HTML:<p>Berwick's Town Wide Yardsale is THIS Saturd
 ay\, July 20th! <br />We have a record breaking 60+ entries on our 'offici
 al map' which is now available for pick-up at the Berwick Town Hall\, and 
 will be available this afternoon at the Berwick Visitor Information Centre
 . New this year\, the map can also be found online at <a href='https://bit
 .ly/BerwickYardsale24'>https://bit.ly/BerwickYardsale24</a> with entries b
 eing added to the digital version until 2 PM on Friday!<br />The yardsale 
 takes place ALL day on Saturday\, and there is no rain date. For those set
 ting up at Rainforth Park\, please be sure to bring your own table and set
 -up in the grassed area around the basketball court.</p>
END:VEVENT
END:VCALENDAR
