BEGIN:VCALENDAR
VERSION:2.0
PRODID:-//https://www.berwick.ca//NONSGML kigkonsult.se iCalcreator 2.29.29
 //
CALSCALE:GREGORIAN
METHOD:PUBLISH
UID:d1bf0909-fb91-45d3-9be3-757226ebab78
X-WR-CALNAME:JCal Pro Calendar
X-WR-CALDESC:Your online events calendar
X-WR-TIMEZONE:America/Halifax
BEGIN:VTIMEZONE
TZID:America/Halifax
BEGIN:STANDARD
TZNAME:AST
DTSTART:20251102T020000
TZOFFSETFROM:-0300
TZOFFSETTO:-0400
RDATE:20261101T020000
END:STANDARD
BEGIN:DAYLIGHT
TZNAME:ADT
DTSTART:20260308T020000
TZOFFSETFROM:-0400
TZOFFSETTO:-0300
RDATE:20270314T020000
END:DAYLIGHT
END:VTIMEZONE
BEGIN:VEVENT
UID:20250719T080000ADT-7012G3RA0J@https://berwick.ca/
DTSTAMP:20260422T172245Z
CATEGORIES:Town Events
CATEGORIES:Special Events
DESCRIPTION:<div class='xdj266r x14z9mp xat24cr x1lziwak x1vvkbs x126k92a'>
 \n<div dir='auto'>It's back! The Town of Berwick Town Wide Yardsale is Jul
 y 19th!</div>\n</div>\n<div class='x14z9mp xat24cr x1lziwak x1vvkbs xtlvy1
 s x126k92a'>\n<div dir='auto'>Planning to participate in the Town-Wide Yar
 d Sale? Send us your address only by July 11 to be included on the map. No
  names or contact info needed!</div>\n</div>\n<div class='x14z9mp xat24cr 
 x1lziwak x1vvkbs xtlvy1s x126k92a'>\n<div dir='auto'>The map will be avail
 able online by July 14 and printed copies will be ready by July 15.</div>
 \n</div>\n<div class='x14z9mp xat24cr x1lziwak x1vvkbs xtlvy1s x126k92a'>
 \n<div dir='auto'><span class='html-span xdj266r x14z9mp xat24cr x1lziwak 
 xexx8yu xyri2b x18d9i69 x1c1uobl x1hl2dhg x16tdsg8 x1vvkbs'><a tabindex='-
 1' class='html-a xdj266r x14z9mp xat24cr x1lziwak xexx8yu xyri2b x18d9i69 
 x1c1uobl x1hl2dhg x16tdsg8 x1vvkbs'></a></span>Submit here: <span class='h
 tml-span xdj266r x14z9mp xat24cr x1lziwak xexx8yu xyri2b x18d9i69 x1c1uobl
  x1hl2dhg x16tdsg8 x1vvkbs'><a attributionsrc='/privacy_sandbox/comet/regi
 ster/source/?xt=AZW1wT6dEYDmNWfHrzeQnDm12Jyc5WIq2fzMYZWDHKvRtQJ7F9UAiUObDo
 k09LPnbiXztxQ1pMfKpB6y0dkUEbbnaiDVcM6gHFEsFhRqXio_yoOXGk-5rwNqewXcSopXxBj8
 PVRlZhpiEJjkpn9xk-90U_X4g8RgCJj1DMDuixBHJxqEm9OvsapFViTVuMZm_fXKNHFLKZm7I6
 Jfi9zYpxTt_PeHW7ql2tOn58j_YQ1vyncXn3mWDLXayx5kAtEeDNT-UcVZ6VyNAt7OEtgeM1nf
 K3M2UPvtVs8ZCKgDrQu-ggvr1B41yRTZTYQMmAXwEUoGXKurIAVcIyWr01_Ah_oCQRk1nQbfal
 V7wIdiMCPATqKemNZYwKsmW5HqrDZH7CQlfa0Yjbx492YCpA_ASol1_KnF0KjZ5nhR-KzMB33N
 nDzNRSmmJlIfqlONPJJur-Zx45294JP6xtJzuilejQshXjAhcWhERT3Y4M-H42NbrLYAVeE-Iz
 VmHPbKleTXmA-0asvDivBWQDTCdcncHpc8sSkApEumn8LKjSWAcuJGy1qfXB-wA2oNB2HVM7Sj
 Cz8P6ZluPWAKM6jUL83r17u_gBe-cTM_sDnfa1EZ2aOsFwN2Gebef_o88rF3voCEmg9kF3ZynO
 440CX7UX4Ycq9ny9szkca0p_oRWMOLZVicShBu6TETVPsIAHKoyC4dAlSxpW7ai7mE9aRDeJ5u
 PEMR99iF_9HxWLTL31SOkzcyQ2_mt2G5sse-ZnGcygXJfjkICeP7nNhuR2SJSGpxwstWcKBadC
 YgQVfTQR8OYr14pvA1FdUHT4N11cOXQ--QbEdaSnGc2bxvZl1nqJxzLjiGyCYOno8SjKHdt7zO
 jcVqV8gxLgQAd_hfPTT4M66olnsflNu_VrH0_45n1sNsNj22jFnVzAQTf071dZlKskoAXFfqDf
 3Bv1978PcQcBPEfWyVzGGH53ho0bWUi7NGGkbjFfh8ZTU4f0JmPljOjhOMH6itIwh9cfHmKbWr
 DYcIV7Y2GgPxo-Xfj7gYl-aC7psO4__XGlHORp1H05ZtR5GWi2C6H8WHRgFC4dOZp01a4WDqfb
 aMjh3tk9OzRFfQ6lPoWEMWhpXGblbH2iqlXSI5Zjl7tT3GfkOm6YQV3Xg8jxFcT0gJImNyKBEH
 bXfLzCtm_vle_zFa3LgDvGur-hRLcCvauvLKkQCOe_dUjB-VqnLQDxmSDBMGXnAcJiAsv-jBhb
 JE_D0llwyJs2PPdSSs2r6-m5CCm1XRvH1sqFXpXQ6DO4F1182Cj2f15OvZGQ3dovL_d0NUX98V
 NRbIBa8LvJpRWOv6hgNAFJcQwLY_9SR9Qy3ZocWuVkJUvVNt9aYy' class='x1i10hfl xjbq
 b8w x1ejq31n x18oe1m7 x1sy0etr xstzfhl x972fbf x10w94by x1qhh985 x14e42zd 
 x9f619 x1ypdohk xt0psk2 xe8uvvx xdj266r x14z9mp xat24cr x1lziwak xexx8yu x
 yri2b x18d9i69 x1c1uobl x16tdsg8 x1hl2dhg xggy1nq x1a2a7pz xkrqix3 x1sur9p
 j x1fey0fg x1s688f' href='https://l.facebook.com/l.php?u=https%3A%2F%2Ffor
 m.jotform.com%2F251733416044047%3Ffbclid%3DIwZXh0bgNhZW0CMTAAYnJpZBExY3Npa
 kllSHJmVHVhdWY0RAEey0HXZ1fCdkoLtcF9d_ivzr3Rn2c1TSyoc6irQS7q4qnQU3ATwTbSO1Z
 1L5o_aem_ZojbzYCaVQnX04iijAudWQ&amp\;h=AT08XysOsXohLE13_sz1HEOWb-B8zox88ZI
 2t868vccg8uQtuB30N7YAZ2-Z1bx9-Q7E9HWmXLRBCkSpTkAtAwIbkR0COiwFWA1Uk3_nCnaG4
 gWoLT4eZwWOiQWIKakU41iJTbB-vGdOig&amp\;__tn__=-UK-R&amp\;c[0]=AT2GDnh20Z6G
 2Is_tSDoZmxV7J2GchLKJTJQ0W8u4htkxpdy46tzIaW4_aTdKfoX40LmcEnnmdYnm8heTJPEJC
 9Yj8_KxCus00H33oBnyXYb1-yI9UdDdD9kLzIdJlLlBqu044Ra_QH_YnoxurVFHF7rXUTALtfv
 ulQOjSYm_lxLFtvBRZy936PFnvZw2bO--SP1fPI2FznKOo1YCJ-UTCj3Via8' rel='nofollo
 w noopener noreferrer' role='link' tabindex='0' target='_blank'></a><a hre
 f='https://form.jotform.com/251733416044047'></a><a href='https://form.jot
 form.com/251733416044047'>https://form.jotform.com/251733416044047</a></sp
 an></div>\n</div>
DTSTART;TZID=America/Halifax:20250719T000000
DTEND;TZID=America/Halifax:20250719T235959
SUMMARY:Town Wide Yard Sale
URL:https://www.berwick.ca/18-town-events/1453-town-wide-yard-sale.html
X-ALT-DESC;FMTTYPE=TEXT/HTML:<div class='xdj266r x14z9mp xat24cr x1lziwak x
 1vvkbs x126k92a'>\n<div dir='auto'>It's back! The Town of Berwick Town Wid
 e Yardsale is July 19th!</div>\n</div>\n<div class='x14z9mp xat24cr x1lziw
 ak x1vvkbs xtlvy1s x126k92a'>\n<div dir='auto'>Planning to participate in 
 the Town-Wide Yard Sale? Send us your address only by July 11 to be includ
 ed on the map. No names or contact info needed!</div>\n</div>\n<div class=
 'x14z9mp xat24cr x1lziwak x1vvkbs xtlvy1s x126k92a'>\n<div dir='auto'>The 
 map will be available online by July 14 and printed copies will be ready b
 y July 15.</div>\n</div>\n<div class='x14z9mp xat24cr x1lziwak x1vvkbs xtl
 vy1s x126k92a'>\n<div dir='auto'><span class='html-span xdj266r x14z9mp xa
 t24cr x1lziwak xexx8yu xyri2b x18d9i69 x1c1uobl x1hl2dhg x16tdsg8 x1vvkbs'
 ><a tabindex='-1' class='html-a xdj266r x14z9mp xat24cr x1lziwak xexx8yu x
 yri2b x18d9i69 x1c1uobl x1hl2dhg x16tdsg8 x1vvkbs'></a></span>Submit here:
  <span class='html-span xdj266r x14z9mp xat24cr x1lziwak xexx8yu xyri2b x1
 8d9i69 x1c1uobl x1hl2dhg x16tdsg8 x1vvkbs'><a attributionsrc='/privacy_san
 dbox/comet/register/source/?xt=AZW1wT6dEYDmNWfHrzeQnDm12Jyc5WIq2fzMYZWDHKv
 RtQJ7F9UAiUObDok09LPnbiXztxQ1pMfKpB6y0dkUEbbnaiDVcM6gHFEsFhRqXio_yoOXGk-5r
 wNqewXcSopXxBj8PVRlZhpiEJjkpn9xk-90U_X4g8RgCJj1DMDuixBHJxqEm9OvsapFViTVuMZ
 m_fXKNHFLKZm7I6Jfi9zYpxTt_PeHW7ql2tOn58j_YQ1vyncXn3mWDLXayx5kAtEeDNT-UcVZ6
 VyNAt7OEtgeM1nfK3M2UPvtVs8ZCKgDrQu-ggvr1B41yRTZTYQMmAXwEUoGXKurIAVcIyWr01_
 Ah_oCQRk1nQbfalV7wIdiMCPATqKemNZYwKsmW5HqrDZH7CQlfa0Yjbx492YCpA_ASol1_KnF0
 KjZ5nhR-KzMB33NnDzNRSmmJlIfqlONPJJur-Zx45294JP6xtJzuilejQshXjAhcWhERT3Y4M-
 H42NbrLYAVeE-IzVmHPbKleTXmA-0asvDivBWQDTCdcncHpc8sSkApEumn8LKjSWAcuJGy1qfX
 B-wA2oNB2HVM7SjCz8P6ZluPWAKM6jUL83r17u_gBe-cTM_sDnfa1EZ2aOsFwN2Gebef_o88rF
 3voCEmg9kF3ZynO440CX7UX4Ycq9ny9szkca0p_oRWMOLZVicShBu6TETVPsIAHKoyC4dAlSxp
 W7ai7mE9aRDeJ5uPEMR99iF_9HxWLTL31SOkzcyQ2_mt2G5sse-ZnGcygXJfjkICeP7nNhuR2S
 JSGpxwstWcKBadCYgQVfTQR8OYr14pvA1FdUHT4N11cOXQ--QbEdaSnGc2bxvZl1nqJxzLjiGy
 CYOno8SjKHdt7zOjcVqV8gxLgQAd_hfPTT4M66olnsflNu_VrH0_45n1sNsNj22jFnVzAQTf07
 1dZlKskoAXFfqDf3Bv1978PcQcBPEfWyVzGGH53ho0bWUi7NGGkbjFfh8ZTU4f0JmPljOjhOMH
 6itIwh9cfHmKbWrDYcIV7Y2GgPxo-Xfj7gYl-aC7psO4__XGlHORp1H05ZtR5GWi2C6H8WHRgF
 C4dOZp01a4WDqfbaMjh3tk9OzRFfQ6lPoWEMWhpXGblbH2iqlXSI5Zjl7tT3GfkOm6YQV3Xg8j
 xFcT0gJImNyKBEHbXfLzCtm_vle_zFa3LgDvGur-hRLcCvauvLKkQCOe_dUjB-VqnLQDxmSDBM
 GXnAcJiAsv-jBhbJE_D0llwyJs2PPdSSs2r6-m5CCm1XRvH1sqFXpXQ6DO4F1182Cj2f15OvZG
 Q3dovL_d0NUX98VNRbIBa8LvJpRWOv6hgNAFJcQwLY_9SR9Qy3ZocWuVkJUvVNt9aYy' class
 ='x1i10hfl xjbqb8w x1ejq31n x18oe1m7 x1sy0etr xstzfhl x972fbf x10w94by x1q
 hh985 x14e42zd x9f619 x1ypdohk xt0psk2 xe8uvvx xdj266r x14z9mp xat24cr x1l
 ziwak xexx8yu xyri2b x18d9i69 x1c1uobl x16tdsg8 x1hl2dhg xggy1nq x1a2a7pz 
 xkrqix3 x1sur9pj x1fey0fg x1s688f' href='https://l.facebook.com/l.php?u=ht
 tps%3A%2F%2Fform.jotform.com%2F251733416044047%3Ffbclid%3DIwZXh0bgNhZW0CMT
 AAYnJpZBExY3NpakllSHJmVHVhdWY0RAEey0HXZ1fCdkoLtcF9d_ivzr3Rn2c1TSyoc6irQS7q
 4qnQU3ATwTbSO1Z1L5o_aem_ZojbzYCaVQnX04iijAudWQ&amp\;h=AT08XysOsXohLE13_sz1
 HEOWb-B8zox88ZI2t868vccg8uQtuB30N7YAZ2-Z1bx9-Q7E9HWmXLRBCkSpTkAtAwIbkR0COi
 wFWA1Uk3_nCnaG4gWoLT4eZwWOiQWIKakU41iJTbB-vGdOig&amp\;__tn__=-UK-R&amp\;c[
 0]=AT2GDnh20Z6G2Is_tSDoZmxV7J2GchLKJTJQ0W8u4htkxpdy46tzIaW4_aTdKfoX40LmcEn
 nmdYnm8heTJPEJC9Yj8_KxCus00H33oBnyXYb1-yI9UdDdD9kLzIdJlLlBqu044Ra_QH_Ynoxu
 rVFHF7rXUTALtfvulQOjSYm_lxLFtvBRZy936PFnvZw2bO--SP1fPI2FznKOo1YCJ-UTCj3Via
 8' rel='nofollow noopener noreferrer' role='link' tabindex='0' target='_bl
 ank'></a><a href='https://form.jotform.com/251733416044047'></a><a href='h
 ttps://form.jotform.com/251733416044047'>https://form.jotform.com/25173341
 6044047</a></span></div>\n</div>
END:VEVENT
END:VCALENDAR
