BEGIN:VCALENDAR
VERSION:2.0
PRODID:-//https://www.berwick.ca//NONSGML kigkonsult.se iCalcreator 2.29.29
 //
CALSCALE:GREGORIAN
METHOD:PUBLISH
UID:53a042e1-d7bf-4902-84e5-06c09e688438
X-WR-CALNAME:JCal Pro Calendar
X-WR-CALDESC:Your online events calendar
X-WR-TIMEZONE:America/Halifax
BEGIN:VTIMEZONE
TZID:America/Halifax
BEGIN:STANDARD
TZNAME:AST
DTSTART:20251102T020000
TZOFFSETFROM:-0300
TZOFFSETTO:-0400
RDATE:20261101T020000
END:STANDARD
BEGIN:DAYLIGHT
TZNAME:ADT
DTSTART:20260308T020000
TZOFFSETFROM:-0400
TZOFFSETTO:-0300
RDATE:20270314T020000
END:DAYLIGHT
END:VTIMEZONE
BEGIN:VEVENT
UID:20260221T000000AST-56446XMa3U@https://berwick.ca/
DTSTAMP:20260424T113445Z
CATEGORIES:Town Events
DESCRIPTION:<p><span class='a_GcMg font-feature-liga-off font-feature-clig-
 off font-feature-calt-off text-decoration-none text-strikethrough-none'>To
 wn Winter Celebration -&nbsp\;</span>February 21-22</p>
DTSTART;TZID=America/Halifax:20260221T000000
DTEND;TZID=America/Halifax:20260222T235900
SUMMARY:Town Winter Celebration
URL:https://www.berwick.ca/18-town-events/1718-town-winter-celebration.html
X-ALT-DESC;FMTTYPE=TEXT/HTML:<p><span class='a_GcMg font-feature-liga-off f
 ont-feature-clig-off font-feature-calt-off text-decoration-none text-strik
 ethrough-none'>Town Winter Celebration -&nbsp\;</span>February 21-22</p>
END:VEVENT
END:VCALENDAR
